BEGIN:VCALENDAR
PRODID:-//SINGPromos.com//NONSGML v1.0//EN
VERSION:2.0
CALSCALE:GREGORIAN
METHOD:PUBLISH
X-WR-CALNAME:SINGPromos.com
X-ORIGINAL-URL:https://singpromos.com
X-WR-CALDESC:Events for SINGPromos.com
BEGIN:VEVENT
DTSTART:20170804T000000
DTEND:20170813T235900
DTSTAMP:20260422T183651
CREATED:20170714T130831
LAST-MODIFIED:20170717T193006
UID:204473@https://singpromos.com
SUMMARY:Books warehouse sale - Pack all the books you can in a carton box for just $50! From 4 - 13 Aug 2017
DESCRIPTION:The sale that you have been waiting for is back! That's right, Books Box Sale (previously known as Books Warehouse Sale) will be on from 4 to 13 Aug, mark your calendars!. For more information, visit [ https://singpromos.com/warehouse-sales/books-warehouse-sale-pack-all-the-books-you-can-in-a-carton-box-for-just-50-from-4-13-aug-2017-204473/ ]. 
LOCATION:569619
URL:https://singpromos.com/warehouse-sales/books-warehouse-sale-pack-all-the-books-you-can-in-a-carton-box-for-just-50-from-4-13-aug-2017-204473/
END:VEVENT
END:VCALENDAR