BEGIN:VCALENDAR
PRODID:-//SINGPromos.com//NONSGML v1.0//EN
VERSION:2.0
CALSCALE:GREGORIAN
METHOD:PUBLISH
X-WR-CALNAME:SINGPromos.com
X-ORIGINAL-URL:https://singpromos.com
X-WR-CALDESC:Events for SINGPromos.com
BEGIN:VEVENT
DTSTART:20170717T000000
DTEND:20170806T235900
DTSTAMP:20260420T231901
CREATED:20170717T005123
LAST-MODIFIED:20170717T005123
UID:204537@https://singpromos.com
SUMMARY:Zuji 12% off hotels coupon code with Mastercard! Valid from 17 Jul - 6 Aug 2017
DESCRIPTION:Search over 150,000 hotels at discounted rates and get an additional 12% OFF with this coupon code for Mastercard cardmembers. Book a flight or flight+hotel package deal and enjoy up to 6% rebate on flight and package bookings.. For more information, visit [ https://singpromos.com/vacations/zuji-12-off-hotels-coupon-code-with-mastercard-valid-from-17-jul-6-aug-2017-204537/ ]. 
LOCATION:
URL:https://singpromos.com/vacations/zuji-12-off-hotels-coupon-code-with-mastercard-valid-from-17-jul-6-aug-2017-204537/
END:VEVENT
END:VCALENDAR