BEGIN:VCALENDAR
PRODID:-//SINGPromos.com//NONSGML v1.0//EN
VERSION:2.0
CALSCALE:GREGORIAN
METHOD:PUBLISH
X-WR-CALNAME:SINGPromos.com
X-ORIGINAL-URL:https://singpromos.com
X-WR-CALDESC:Events for SINGPromos.com
BEGIN:VEVENT
DTSTART:20170714T000000
DTEND:20170820T235900
DTSTAMP:20260422T082318
CREATED:20170718T160339
LAST-MODIFIED:20170718T141603
UID:204615@https://singpromos.com
SUMMARY:Gyuu+ at Emporium Shokuhin: 52% off premium Surf 'N' Turf dinner buffet! From 14 Jul - 20 Aug 2017
DESCRIPTION:Gyuu+ features premium meats such as the intensely flavoured dry-aged beef and fresh seafood for grilling on specially imported grills from Japan. Celebrate the nation's birthday at Gyuu with 52% discount premium Surf 'N' Turf dinner buffet. For more information, visit [ https://singpromos.com/dining-restaurants-food/gyuu-at-emporium-shokuhin-52-off-premium-surf-n-turf-dinner-buffet-from-14-jul-20-aug-2017-204615/ ]. 
LOCATION:039594
URL:https://singpromos.com/dining-restaurants-food/gyuu-at-emporium-shokuhin-52-off-premium-surf-n-turf-dinner-buffet-from-14-jul-20-aug-2017-204615/
END:VEVENT
END:VCALENDAR