BEGIN:VCALENDAR
PRODID:-//SINGPromos.com//NONSGML v1.0//EN
VERSION:2.0
CALSCALE:GREGORIAN
METHOD:PUBLISH
X-WR-CALNAME:SINGPromos.com
X-ORIGINAL-URL:https://singpromos.com
X-WR-CALDESC:Events for SINGPromos.com
BEGIN:VEVENT
DTSTART:20170720T000000
DTEND:20170806T235900
DTSTAMP:20260422T082324
CREATED:20170720T165807
LAST-MODIFIED:20170720T165807
UID:204719@https://singpromos.com
SUMMARY:wt+ brands: 20% off reg-priced items with Citi credit cards! From 20 Jul - 6 Aug 2017
DESCRIPTION:More shopping deals to love this GSS! Enjoy 20% off* reg-priced items (min. $100 spend) at DOROTHY PERKINS, TOPSHOP and TOPMAN from 20 Jul - 6 Aug.. For more information, visit [ https://singpromos.com/fashion-accessories/wt-brands-20-off-reg-priced-items-with-citi-credit-cards-from-20-jul-6-aug-2017-204719/ ]. 
LOCATION:
URL:https://singpromos.com/fashion-accessories/wt-brands-20-off-reg-priced-items-with-citi-credit-cards-from-20-jul-6-aug-2017-204719/
END:VEVENT
END:VCALENDAR