BEGIN:VCALENDAR
PRODID:-//SINGPromos.com//NONSGML v1.0//EN
VERSION:2.0
CALSCALE:GREGORIAN
METHOD:PUBLISH
X-WR-CALNAME:SINGPromos.com
X-ORIGINAL-URL:https://singpromos.com
X-WR-CALDESC:Events for SINGPromos.com
BEGIN:VEVENT
DTSTART:20170721T000000
DTEND:20170723T235900
DTSTAMP:20260420T182443
CREATED:20170721T125423
LAST-MODIFIED:20170721T125423
UID:204739@https://singpromos.com
SUMMARY:Jetstar: Promo sale fares fr $37 all-in to over 15 destinations! Book from 21 - 23 Jul 2017
DESCRIPTION:All-in Frenzy Fares to Hong Kong, Bangkok and more! Travel from August to November! Full list of promo fares: Prices quoted are in Singapore dollars. Fares quoted are for one way and include taxes.. For more information, visit [ https://singpromos.com/airlines-flights/jetstar-promo-sale-fares-fr-37-all-in-to-over-15-destinations-book-from-21-23-jul-2017-204739/ ]. 
LOCATION:
URL:https://singpromos.com/airlines-flights/jetstar-promo-sale-fares-fr-37-all-in-to-over-15-destinations-book-from-21-23-jul-2017-204739/
END:VEVENT
END:VCALENDAR