BEGIN:VCALENDAR
PRODID:-//SINGPromos.com//NONSGML v1.0//EN
VERSION:2.0
CALSCALE:GREGORIAN
METHOD:PUBLISH
X-WR-CALNAME:SINGPromos.com
X-ORIGINAL-URL:https://singpromos.com
X-WR-CALDESC:Events for SINGPromos.com
BEGIN:VEVENT
DTSTART:20170725T000000
DTEND:20170725T235900
DTSTAMP:20260420T055442
CREATED:20170721T145041
LAST-MODIFIED:20170724T110854
UID:204757@https://singpromos.com
SUMMARY:Tuk Tuk Cha: 1-for-1 drinks at ALL outlets on 25 Jul 2017, till 5pm!
DESCRIPTION:It's the time of the month! Promotion is valid for on Tuesday, 25 July 2017. Enjoy 1-for-1 on all $3 cold regular drinks across all outlets available from opening to 5pm.. For more information, visit [ https://singpromos.com/dining-restaurants-food/tuk-tuk-cha-1-for-1-drinks-at-all-outlets-on-25-jul-2017-till-5pm-204757/ ]. 
LOCATION:
URL:https://singpromos.com/dining-restaurants-food/tuk-tuk-cha-1-for-1-drinks-at-all-outlets-on-25-jul-2017-till-5pm-204757/
END:VEVENT
END:VCALENDAR