BEGIN:VCALENDAR
PRODID:-//SINGPromos.com//NONSGML v1.0//EN
VERSION:2.0
CALSCALE:GREGORIAN
METHOD:PUBLISH
X-WR-CALNAME:SINGPromos.com
X-ORIGINAL-URL:https://singpromos.com
X-WR-CALDESC:Events for SINGPromos.com
BEGIN:VEVENT
DTSTART:20170727T000000
DTEND:20170730T235900
DTSTAMP:20260422T203247
CREATED:20170723T113642
LAST-MODIFIED:20170728T015218
UID:204794@https://singpromos.com
SUMMARY:IT Expo - More than 2,000 items selling at only $98! From 27 - 30 Jul 2017
DESCRIPTION:IT Expo will be having its next Electronic Fair show at Singapore Expo Hall 6 from 27 July to 31 July, 11am - 9pm. More than 2,000 items selling at only $98!. For more information, visit [ https://singpromos.com/warehouse-sales/it-expo-more-than-2000-items-selling-at-only-98-from-27-30-jul-2017-204794/ ]. 
LOCATION:486150
URL:https://singpromos.com/warehouse-sales/it-expo-more-than-2000-items-selling-at-only-98-from-27-30-jul-2017-204794/
END:VEVENT
END:VCALENDAR