BEGIN:VCALENDAR
PRODID:-//SINGPromos.com//NONSGML v1.0//EN
VERSION:2.0
CALSCALE:GREGORIAN
METHOD:PUBLISH
X-WR-CALNAME:SINGPromos.com
X-ORIGINAL-URL:https://singpromos.com
X-WR-CALDESC:Events for SINGPromos.com
BEGIN:VEVENT
DTSTART:20170725T000000
DTEND:20170728T235900
DTSTAMP:20260422T082307
CREATED:20170724T210556
LAST-MODIFIED:20170724T211104
UID:204870@https://singpromos.com
SUMMARY:Standard Chartered roadshow at Toa Payoh HDB Hub from 25 - 28 Jul 2017
DESCRIPTION:Visit Standard Chartered booth at Toa Payoh HDB Hub, Main Atrium, from 25 to 28 July, 10.30am - 10pm daily.. For more information, visit [ https://singpromos.com/banks-credit-cards/standard-chartered-roadshow-at-toa-payoh-hdb-hub-from-25-28-jul-2017-204870/ ]. 
LOCATION:310480
URL:https://singpromos.com/banks-credit-cards/standard-chartered-roadshow-at-toa-payoh-hdb-hub-from-25-28-jul-2017-204870/
END:VEVENT
END:VCALENDAR