BEGIN:VCALENDAR
PRODID:-//SINGPromos.com//NONSGML v1.0//EN
VERSION:2.0
CALSCALE:GREGORIAN
METHOD:PUBLISH
X-WR-CALNAME:SINGPromos.com
X-ORIGINAL-URL:https://singpromos.com
X-WR-CALDESC:Events for SINGPromos.com
BEGIN:VEVENT
DTSTART:20170801T000000
DTEND:20170831T235900
DTSTAMP:20260420T055453
CREATED:20170726T190033
LAST-MODIFIED:20170726T190033
UID:204955@https://singpromos.com
SUMMARY:Top Secret Studio Grand Opening Sale at Suntec! From 1 - 31 Aug 2017
DESCRIPTION:In celebration of the new store grand opening at Suntec City Mall #02-600, TOP SECRET STUDIO is bringing you the cheapest deal in town!. For more information, visit [ https://singpromos.com/personal-care/top-secret-studio-grand-opening-sale-at-suntec-from-1-31-aug-2017-204955/ ]. 
LOCATION:038983
URL:https://singpromos.com/personal-care/top-secret-studio-grand-opening-sale-at-suntec-from-1-31-aug-2017-204955/
END:VEVENT
END:VCALENDAR