BEGIN:VCALENDAR
PRODID:-//SINGPromos.com//NONSGML v1.0//EN
VERSION:2.0
CALSCALE:GREGORIAN
METHOD:PUBLISH
X-WR-CALNAME:SINGPromos.com
X-ORIGINAL-URL:https://singpromos.com
X-WR-CALDESC:Events for SINGPromos.com
BEGIN:VEVENT
DTSTART:20170721T000000
DTEND:20170813T235900
DTSTAMP:20260420T055546
CREATED:20170728T193003
LAST-MODIFIED:20170728T193003
UID:205071@https://singpromos.com
SUMMARY:Suntec City: With a min. $52 spent, redeem "Let's Tikam-tikam" coupon* and more! From 21 Jul - 13 Aug 2017
DESCRIPTION:Join Suntec City in celebrating all things Singapore as our nation turns 52. Fabulous dining deals and shopping offers at Suntec City!. For more information, visit [ https://singpromos.com/shopping-malls/suntec-city-with-a-min-52-spent-redeem-lets-tikam-tikam-coupon-and-more-from-21-jul-13-aug-2017-205071/ ]. 
LOCATION:038983
URL:https://singpromos.com/shopping-malls/suntec-city-with-a-min-52-spent-redeem-lets-tikam-tikam-coupon-and-more-from-21-jul-13-aug-2017-205071/
END:VEVENT
END:VCALENDAR