BEGIN:VCALENDAR
PRODID:-//SINGPromos.com//NONSGML v1.0//EN
VERSION:2.0
CALSCALE:GREGORIAN
METHOD:PUBLISH
X-WR-CALNAME:SINGPromos.com
X-ORIGINAL-URL:https://singpromos.com
X-WR-CALDESC:Events for SINGPromos.com
BEGIN:VEVENT
DTSTART:20170729T000000
DTEND:20170730T235900
DTSTAMP:20260422T081724
CREATED:20170729T174129
LAST-MODIFIED:20170729T174129
UID:205091@https://singpromos.com
SUMMARY:Steinway Piano Fair: Display Unit Clearance at JEM till 30 Jul 2017
DESCRIPTION:On the LAST DAY (Sunday 30 July 2017) of the Steinway Piano Fair, up to $8,000 worth of savings on display pianos up for grabs!. For more information, visit [ https://singpromos.com/warehouse-sales/steinway-piano-fair-display-unit-clearance-at-jem-till-30-jul-2017-205091/ ]. 
LOCATION:608549
URL:https://singpromos.com/warehouse-sales/steinway-piano-fair-display-unit-clearance-at-jem-till-30-jul-2017-205091/
END:VEVENT
END:VCALENDAR