BEGIN:VCALENDAR
PRODID:-//SINGPromos.com//NONSGML v1.0//EN
VERSION:2.0
CALSCALE:GREGORIAN
METHOD:PUBLISH
X-WR-CALNAME:SINGPromos.com
X-ORIGINAL-URL:https://singpromos.com
X-WR-CALDESC:Events for SINGPromos.com
BEGIN:VEVENT
DTSTART:20170804T000000
DTEND:20170809T235900
DTSTAMP:20260420T055358
CREATED:20170731T194555
LAST-MODIFIED:20170731T194555
UID:205128@https://singpromos.com
SUMMARY:Giant baby warehouse sale at Tampines outlet! From 4 - 9 Aug 2017
DESCRIPTION:Giant will be having their first ever baby warehouse sales at Giant Tampines hypermarket from 4 - 9 August 2017, 11am - 9pm!. For more information, visit [ https://singpromos.com/warehouse-sales/giant-baby-warehouse-sale-at-tampines-outlet-from-4-9-aug-2017-205128/ ]. 
LOCATION:528765
URL:https://singpromos.com/warehouse-sales/giant-baby-warehouse-sale-at-tampines-outlet-from-4-9-aug-2017-205128/
END:VEVENT
END:VCALENDAR