BEGIN:VCALENDAR
PRODID:-//SINGPromos.com//NONSGML v1.0//EN
VERSION:2.0
CALSCALE:GREGORIAN
METHOD:PUBLISH
X-WR-CALNAME:SINGPromos.com
X-ORIGINAL-URL:https://singpromos.com
X-WR-CALDESC:Events for SINGPromos.com
BEGIN:VEVENT
DTSTART:20170731T000000
DTEND:20170807T235900
DTSTAMP:20260422T211503
CREATED:20170731T204653
LAST-MODIFIED:20170731T204653
UID:205141@https://singpromos.com
SUMMARY:Better Vision: 1-for-1 ALL frames and sunglasses at 3 outlets! From 31 Jul - 7 Aug 2017
DESCRIPTION:Buy 1 get 1 free for all frames & sunglasses at three Better Vision outlets. For more information, visit [ https://singpromos.com/fashion-accessories/better-vision-1-for-1-all-frames-and-sunglasses-at-3-outlets-from-31-jul-7-aug-2017-205141/ ]. 
LOCATION:
URL:https://singpromos.com/fashion-accessories/better-vision-1-for-1-all-frames-and-sunglasses-at-3-outlets-from-31-jul-7-aug-2017-205141/
END:VEVENT
END:VCALENDAR