BEGIN:VCALENDAR
PRODID:-//SINGPromos.com//NONSGML v1.0//EN
VERSION:2.0
CALSCALE:GREGORIAN
METHOD:PUBLISH
X-WR-CALNAME:SINGPromos.com
X-ORIGINAL-URL:https://singpromos.com
X-WR-CALDESC:Events for SINGPromos.com
BEGIN:VEVENT
DTSTART:20170803T000000
DTEND:20170805T235900
DTSTAMP:20260422T082108
CREATED:20170801T041605
LAST-MODIFIED:20170802T190111
UID:205178@https://singpromos.com
SUMMARY:The Leeden Store: Up to 70% off warehouse sale! From 3 - 5 Aug 2017
DESCRIPTION:The Leeden Store's long-awaited Warehouse Sale is back. Join them from 3 - 5 Aug 2017 for crazy discounts of up to 70% off. For more information, visit [ https://singpromos.com/warehouse-sales/the-leeden-store-up-to-70-off-warehouse-sale-from-3-5-aug-2017-205178/ ]. 
LOCATION:627608
URL:https://singpromos.com/warehouse-sales/the-leeden-store-up-to-70-off-warehouse-sale-from-3-5-aug-2017-205178/
END:VEVENT
END:VCALENDAR