BEGIN:VCALENDAR
PRODID:-//SINGPromos.com//NONSGML v1.0//EN
VERSION:2.0
CALSCALE:GREGORIAN
METHOD:PUBLISH
X-WR-CALNAME:SINGPromos.com
X-ORIGINAL-URL:https://singpromos.com
X-WR-CALDESC:Events for SINGPromos.com
BEGIN:VEVENT
DTSTART:20170809T000000
DTEND:20170815T235900
DTSTAMP:20260424T032117
CREATED:20170801T050215
LAST-MODIFIED:20170801T000022
UID:205182@https://singpromos.com
SUMMARY:Isetan up to 50% off sports sale at Tampines Mall from 9 - 15 Aug 2017
DESCRIPTION:Isetan Tampines will be having a Sports Sale promotion featuring discounts of up to 50% off from 9 - 15 Aug 2017. For more information, visit [ https://singpromos.com/warehouse-sales/isetan-up-to-50-off-sports-sale-at-tampines-mall-from-9-15-aug-2017-205182/ ]. 
LOCATION:529510
URL:https://singpromos.com/warehouse-sales/isetan-up-to-50-off-sports-sale-at-tampines-mall-from-9-15-aug-2017-205182/
END:VEVENT
END:VCALENDAR