BEGIN:VCALENDAR
PRODID:-//SINGPromos.com//NONSGML v1.0//EN
VERSION:2.0
CALSCALE:GREGORIAN
METHOD:PUBLISH
X-WR-CALNAME:SINGPromos.com
X-ORIGINAL-URL:https://singpromos.com
X-WR-CALDESC:Events for SINGPromos.com
BEGIN:VEVENT
DTSTART:20170808T000000
DTEND:20170808T235900
DTSTAMP:20260422T082148
CREATED:20170806T193821
LAST-MODIFIED:20170808T122200
UID:205446@https://singpromos.com
SUMMARY:Free SJORA with ANY purchase at KFC, Texas Chicken, Burger King & more on 8 Aug 2017
DESCRIPTION:SAVE THE DATE: 8 August 2017! FREE SJORA® with any purchase. Available at Texas Chicken, KFC, Pepper Lunch, Burger, Carl's Jr and Popeyes. For more information, visit [ https://singpromos.com/dining-restaurants-food/free-sjora-with-any-purchase-at-kfc-texas-chicken-burger-king-more-on-8-aug-2017-205446/ ]. 
LOCATION:
URL:https://singpromos.com/dining-restaurants-food/free-sjora-with-any-purchase-at-kfc-texas-chicken-burger-king-more-on-8-aug-2017-205446/
END:VEVENT
END:VCALENDAR