BEGIN:VCALENDAR
PRODID:-//SINGPromos.com//NONSGML v1.0//EN
VERSION:2.0
CALSCALE:GREGORIAN
METHOD:PUBLISH
X-WR-CALNAME:SINGPromos.com
X-ORIGINAL-URL:https://singpromos.com
X-WR-CALDESC:Events for SINGPromos.com
BEGIN:VEVENT
DTSTART:20170811T000000
DTEND:20170813T235900
DTSTAMP:20260420T055547
CREATED:20170808T155448
LAST-MODIFIED:20170808T143934
UID:205570@https://singpromos.com
SUMMARY:Chan Brothers Suntec City Wanderlust travel fair from 11 - 13 Aug 2017
DESCRIPTION:Dream deals await at Chan Brothers Suntec City Wanderlust @North Atrium this Fri - Sun (11 - 13 Aug), 10am - 9.30pm, Suntec City Mall Level 1 North Atrium (Between Tower 1 & 2).. For more information, visit [ https://singpromos.com/happenings/chan-brothers-suntec-city-wanderlust-travel-fair-from-11-13-aug-2017-205570/ ]. 
LOCATION:038983
URL:https://singpromos.com/happenings/chan-brothers-suntec-city-wanderlust-travel-fair-from-11-13-aug-2017-205570/
END:VEVENT
END:VCALENDAR