BEGIN:VCALENDAR
PRODID:-//SINGPromos.com//NONSGML v1.0//EN
VERSION:2.0
CALSCALE:GREGORIAN
METHOD:PUBLISH
X-WR-CALNAME:SINGPromos.com
X-ORIGINAL-URL:https://singpromos.com
X-WR-CALDESC:Events for SINGPromos.com
BEGIN:VEVENT
DTSTART:20170801T000000
DTEND:20170831T235900
DTSTAMP:20260422T082309
CREATED:20170808T185114
LAST-MODIFIED:20170824T121950
UID:205584@https://singpromos.com
SUMMARY:Comfort Delgro: SAFRA & HomeTeamNS members enjoy $3.90 off taxi rides! Valid from 1 - 31 Aug 2017
DESCRIPTION:Calling all SAFRA & HomeTeamNS members, let's celebrate the 140th anniversary of the People's Bank! From now till 31 Aug 2017, enjoy $3.90 off your Comfort and CityCab Taxi Rides with promo code: 140days.. For more information, visit [ https://singpromos.com/motor-vehicles/comfort-delgro-safra-members-enjoy-3-90-off-taxi-rides-valid-from-1-31-aug-2017-205584/ ]. 
LOCATION:
URL:https://singpromos.com/motor-vehicles/comfort-delgro-safra-members-enjoy-3-90-off-taxi-rides-valid-from-1-31-aug-2017-205584/
END:VEVENT
END:VCALENDAR