BEGIN:VCALENDAR
PRODID:-//SINGPromos.com//NONSGML v1.0//EN
VERSION:2.0
CALSCALE:GREGORIAN
METHOD:PUBLISH
X-WR-CALNAME:SINGPromos.com
X-ORIGINAL-URL:https://singpromos.com
X-WR-CALDESC:Events for SINGPromos.com
BEGIN:VEVENT
DTSTART:20170301T000000
DTEND:20180228T235900
DTSTAMP:20260422T082303
CREATED:20170808T193601
LAST-MODIFIED:20170808T193601
UID:205590@https://singpromos.com
SUMMARY:Delifrance: 18% off total bill with DBS/POSB cards! Valid till 28 Feb 2018
DESCRIPTION:Save 18% off total bill with min S$20 spend at Délifrance. For more information, visit [ https://singpromos.com/dining-restaurants-food/delifrance-18-off-total-bill-with-dbsposb-cards-valid-till-28-feb-2018-205590/ ]. 
LOCATION:
URL:https://singpromos.com/dining-restaurants-food/delifrance-18-off-total-bill-with-dbsposb-cards-valid-till-28-feb-2018-205590/
END:VEVENT
END:VCALENDAR