BEGIN:VCALENDAR
PRODID:-//SINGPromos.com//NONSGML v1.0//EN
VERSION:2.0
CALSCALE:GREGORIAN
METHOD:PUBLISH
X-WR-CALNAME:SINGPromos.com
X-ORIGINAL-URL:https://singpromos.com
X-WR-CALDESC:Events for SINGPromos.com
BEGIN:VEVENT
DTSTART:20170814T000000
DTEND:20170819T235900
DTSTAMP:20260420T055547
CREATED:20170813T090430
LAST-MODIFIED:20170813T103818
UID:205743@https://singpromos.com
SUMMARY:Jewel Coffee: $2 lattes at One Raffles Place! From 14 - 19 Aug 2017
DESCRIPTION:Jewel Coffee is offering $2 Lattes at 1 Raffles Place, available all day this week!. For more information, visit [ https://singpromos.com/dining-restaurants-food/jewel-coffee-2-lattes-at-one-raffles-place-from-14-19-aug-2017-205743/ ]. 
LOCATION:048616
URL:https://singpromos.com/dining-restaurants-food/jewel-coffee-2-lattes-at-one-raffles-place-from-14-19-aug-2017-205743/
END:VEVENT
END:VCALENDAR