BEGIN:VCALENDAR
PRODID:-//SINGPromos.com//NONSGML v1.0//EN
VERSION:2.0
CALSCALE:GREGORIAN
METHOD:PUBLISH
X-WR-CALNAME:SINGPromos.com
X-ORIGINAL-URL:https://singpromos.com
X-WR-CALDESC:Events for SINGPromos.com
BEGIN:VEVENT
DTSTART:20170814T000000
DTEND:20170816T235900
DTSTAMP:20260422T073917
CREATED:20170814T131304
LAST-MODIFIED:20170814T131304
UID:205784@https://singpromos.com
SUMMARY:Twelve Cupcakes: $2.50 cupcakes at Wisma Atria & Jurong Point! From 14 - 16 Aug 2017
DESCRIPTION:Twelve Cupcakes celebrates their two newest outlets at Wisma Atria & Jurong Point. To celebrate the new outlet's opening, take home cupcakes for $2.50 each! *. For more information, visit [ https://singpromos.com/dining-restaurants-food/twelve-cupcakes-2-50-cupcakes-at-wisma-atria-jurong-point-from-14-16-aug-2017-205784/ ]. 
LOCATION:
URL:https://singpromos.com/dining-restaurants-food/twelve-cupcakes-2-50-cupcakes-at-wisma-atria-jurong-point-from-14-16-aug-2017-205784/
END:VEVENT
END:VCALENDAR