BEGIN:VCALENDAR
PRODID:-//SINGPromos.com//NONSGML v1.0//EN
VERSION:2.0
CALSCALE:GREGORIAN
METHOD:PUBLISH
X-WR-CALNAME:SINGPromos.com
X-ORIGINAL-URL:https://singpromos.com
X-WR-CALDESC:Events for SINGPromos.com
BEGIN:VEVENT
DTSTART:20170817T000000
DTEND:20170821T235900
DTSTAMP:20260420T160838
CREATED:20170817T112738
LAST-MODIFIED:20170817T114602
UID:205913@https://singpromos.com
SUMMARY:SaSa offers 20% off storewide at ALL stores! From 17 - 21 Aug 2017
DESCRIPTION:Beauty Junkies, SaSa has heard you! SaSa is bringing you STOREWIDE 20% OFF* at all stores. Happening for a limited time, this is a sale that you'll not want to miss!. For more information, visit [ https://singpromos.com/beauty/sasa-offers-20-off-storewide-at-all-stores-from-17-21-aug-2017-205913/ ]. 
LOCATION:648886
URL:https://singpromos.com/beauty/sasa-offers-20-off-storewide-at-all-stores-from-17-21-aug-2017-205913/
END:VEVENT
END:VCALENDAR