BEGIN:VCALENDAR
PRODID:-//SINGPromos.com//NONSGML v1.0//EN
VERSION:2.0
CALSCALE:GREGORIAN
METHOD:PUBLISH
X-WR-CALNAME:SINGPromos.com
X-ORIGINAL-URL:https://singpromos.com
X-WR-CALDESC:Events for SINGPromos.com
BEGIN:VEVENT
DTSTART:20170925T000000
DTEND:20170929T235900
DTSTAMP:20260420T055546
CREATED:20170818T185143
LAST-MODIFIED:20170915T191335
UID:206001@https://singpromos.com
SUMMARY:One Raffles Place: Free 40-sec non-invasive health screening with free gifts from 25 - 29 Sep 2017
DESCRIPTION:One Raffles Place (ORP) has taken the initiative to engage the stressed and the overworked with their Healthy Living campaign.. For more information, visit [ https://singpromos.com/shopping-malls/one-raffles-place-free-40-sec-non-invasive-health-screening-with-free-gifts-from-25-29-sep-2017-206001/ ]. 
LOCATION:048616
URL:https://singpromos.com/shopping-malls/one-raffles-place-free-40-sec-non-invasive-health-screening-with-free-gifts-from-25-29-sep-2017-206001/
END:VEVENT
END:VCALENDAR