BEGIN:VCALENDAR
PRODID:-//SINGPromos.com//NONSGML v1.0//EN
VERSION:2.0
CALSCALE:GREGORIAN
METHOD:PUBLISH
X-WR-CALNAME:SINGPromos.com
X-ORIGINAL-URL:https://singpromos.com
X-WR-CALDESC:Events for SINGPromos.com
BEGIN:VEVENT
DTSTART:20170821T000000
DTEND:20170827T235900
DTSTAMP:20260420T055453
CREATED:20170820T150222
LAST-MODIFIED:20170820T151744
UID:206091@https://singpromos.com
SUMMARY:The Great Sports & Outdoor Sports sale at Suntec! From 21 - 27 Aug 2017
DESCRIPTION:Enjoy discounts of up to 50% off at The Great Sports & Outdoor Sports sale at Suntec to be held from 21 - 27 Aug 2017. For more information, visit [ https://singpromos.com/warehouse-sales/the-great-sports-outdoor-sports-sale-at-suntec-from-21-27-aug-2017-206091/ ]. 
LOCATION:038983
URL:https://singpromos.com/warehouse-sales/the-great-sports-outdoor-sports-sale-at-suntec-from-21-27-aug-2017-206091/
END:VEVENT
END:VCALENDAR