BEGIN:VCALENDAR
PRODID:-//SINGPromos.com//NONSGML v1.0//EN
VERSION:2.0
CALSCALE:GREGORIAN
METHOD:PUBLISH
X-WR-CALNAME:SINGPromos.com
X-ORIGINAL-URL:https://singpromos.com
X-WR-CALDESC:Events for SINGPromos.com
BEGIN:VEVENT
DTSTART:20170825T000000
DTEND:20171231T235900
DTSTAMP:20260422T082151
CREATED:20170825T141702
LAST-MODIFIED:20170825T141702
UID:206390@https://singpromos.com
SUMMARY:Comfort DelGro: $3 off your first Masterpass for Street Hail fare! Valid from 25 Aug - 31 Dec 2017
DESCRIPTION:Masterpass for Street Hail is here! You can now pay your street hail rides with Masterpass by Mastercard with the latest ComfortDelGro App. For more information, visit [ https://singpromos.com/motor-vehicles/comfort-delgro-3-off-your-first-masterpass-for-street-hail-fare-valid-from-25-aug-31-dec-2017-206390/ ]. 
LOCATION:
URL:https://singpromos.com/motor-vehicles/comfort-delgro-3-off-your-first-masterpass-for-street-hail-fare-valid-from-25-aug-31-dec-2017-206390/
END:VEVENT
END:VCALENDAR