BEGIN:VCALENDAR
PRODID:-//SINGPromos.com//NONSGML v1.0//EN
VERSION:2.0
CALSCALE:GREGORIAN
METHOD:PUBLISH
X-WR-CALNAME:SINGPromos.com
X-ORIGINAL-URL:https://singpromos.com
X-WR-CALDESC:Events for SINGPromos.com
BEGIN:VEVENT
DTSTART:20170829T000000
DTEND:20170829T235900
DTSTAMP:20260420T055359
CREATED:20170825T145949
LAST-MODIFIED:20170825T150104
UID:206404@https://singpromos.com
SUMMARY:Tuk Tuk Cha: 1-for-1 drinks at ALL outlets on 29 Aug 2017, from opening till 5pm!
DESCRIPTION:Are you excited?! Tuk Tuk Cha's 1-for-1 promotion is back on 29 August 2017 (Tuesday) from opening - 5pm islandwide!. For more information, visit [ https://singpromos.com/dining-restaurants-food/tuk-tuk-cha-1-for-1-drinks-at-all-outlets-on-29-aug-2017-from-opening-till-5pm-206404/ ]. 
LOCATION:
URL:https://singpromos.com/dining-restaurants-food/tuk-tuk-cha-1-for-1-drinks-at-all-outlets-on-29-aug-2017-from-opening-till-5pm-206404/
END:VEVENT
END:VCALENDAR