BEGIN:VCALENDAR
PRODID:-//SINGPromos.com//NONSGML v1.0//EN
VERSION:2.0
CALSCALE:GREGORIAN
METHOD:PUBLISH
X-WR-CALNAME:SINGPromos.com
X-ORIGINAL-URL:https://singpromos.com
X-WR-CALDESC:Events for SINGPromos.com
BEGIN:VEVENT
DTSTART:20170831T000000
DTEND:20170903T235900
DTSTAMP:20260420T055455
CREATED:20170829T082543
LAST-MODIFIED:20170828T213113
UID:206514@https://singpromos.com
SUMMARY:Giant Tampines: Up to 60% off crazy warehouse clearance sale! From 31 Aug - 3 Sep 2017
DESCRIPTION:Selected household and home appliance MEGA sales will be happening at Giant Tampines! Save up to 60% for 4 days only from 31 Aug to 3 Sep 2017! Following the overwhelming response in June, Giant Tampines is bringing the warehouse clearance sales back AGAIN. For more information, visit [ https://singpromos.com/warehouse-sales/giant-tampines-up-to-60-off-crazy-warehouse-clearance-sale-from-31-aug-3-sep-2017-206514/ ]. 
LOCATION:528765
URL:https://singpromos.com/warehouse-sales/giant-tampines-up-to-60-off-crazy-warehouse-clearance-sale-from-31-aug-3-sep-2017-206514/
END:VEVENT
END:VCALENDAR