BEGIN:VCALENDAR
PRODID:-//SINGPromos.com//NONSGML v1.0//EN
VERSION:2.0
CALSCALE:GREGORIAN
METHOD:PUBLISH
X-WR-CALNAME:SINGPromos.com
X-ORIGINAL-URL:https://singpromos.com
X-WR-CALDESC:Events for SINGPromos.com
BEGIN:VEVENT
DTSTART:20170829T000000
DTEND:20170831T235900
DTSTAMP:20260420T172805
CREATED:20170829T104741
LAST-MODIFIED:20170829T104741
UID:206524@https://singpromos.com
SUMMARY:Joe & Dough: 1-for-1 ANY beverage at almost all outlets! From 29 - 31 Aug 2017
DESCRIPTION:Because sharing is caring, order any beverage and enjoy another cuppa on the house from 29 - 31 August 2017!. For more information, visit [ https://singpromos.com/dining-restaurants-food/joe-dough-1-for-1-any-beverage-at-almost-all-outlets-from-29-31-aug-2017-206524/ ]. 
LOCATION:
URL:https://singpromos.com/dining-restaurants-food/joe-dough-1-for-1-any-beverage-at-almost-all-outlets-from-29-31-aug-2017-206524/
END:VEVENT
END:VCALENDAR