BEGIN:VCALENDAR
PRODID:-//SINGPromos.com//NONSGML v1.0//EN
VERSION:2.0
CALSCALE:GREGORIAN
METHOD:PUBLISH
X-WR-CALNAME:SINGPromos.com
X-ORIGINAL-URL:https://singpromos.com
X-WR-CALDESC:Events for SINGPromos.com
BEGIN:VEVENT
DTSTART:20170901T000000
DTEND:20170930T235900
DTSTAMP:20260420T013916
CREATED:20170901T122531
LAST-MODIFIED:20170909T002557
UID:206740@https://singpromos.com
SUMMARY:World of Sports: 50% OFF storewide crazy sale at 3 outlets! From 1 Sep 2017
DESCRIPTION:Crazy sales is back at World of Sports! Get 50% off storewide! World of Sports members enjoy an additional 5% off!. For more information, visit [ https://singpromos.com/warehouse-sales/world-of-sports-50-off-storewide-crazy-sale-at-3-outlets-from-1-sep-2017-206740/ ]. 
LOCATION:
URL:https://singpromos.com/warehouse-sales/world-of-sports-50-off-storewide-crazy-sale-at-3-outlets-from-1-sep-2017-206740/
END:VEVENT
END:VCALENDAR