BEGIN:VCALENDAR
PRODID:-//SINGPromos.com//NONSGML v1.0//EN
VERSION:2.0
CALSCALE:GREGORIAN
METHOD:PUBLISH
X-WR-CALNAME:SINGPromos.com
X-ORIGINAL-URL:https://singpromos.com
X-WR-CALDESC:Events for SINGPromos.com
BEGIN:VEVENT
DTSTART:20170904T000000
DTEND:20171025T235900
DTSTAMP:20260424T025723
CREATED:20170904T181901
LAST-MODIFIED:20170904T182015
UID:206824@https://singpromos.com
SUMMARY:Golden Village: $7 tickets for Movie Club members at selected cinemas! From 4 Sep - 25 Oct 2017
DESCRIPTION:When lucky number seven arrives, don't let it pass you by! From 4th Sept to 25th Oct, #GV Movie Club® members enjoy $7 movie tickets on Mondays, Wednesdays and Thursdays at selected GV Cinemas!. For more information, visit [ https://singpromos.com/places-of-interest/golden-village-7-tickets-for-movie-club-members-at-selected-cinemas-from-4-sep-25-oct-2017-206824/ ]. 
LOCATION:
URL:https://singpromos.com/places-of-interest/golden-village-7-tickets-for-movie-club-members-at-selected-cinemas-from-4-sep-25-oct-2017-206824/
END:VEVENT
END:VCALENDAR