BEGIN:VCALENDAR
PRODID:-//SINGPromos.com//NONSGML v1.0//EN
VERSION:2.0
CALSCALE:GREGORIAN
METHOD:PUBLISH
X-WR-CALNAME:SINGPromos.com
X-ORIGINAL-URL:https://singpromos.com
X-WR-CALDESC:Events for SINGPromos.com
BEGIN:VEVENT
DTSTART:20170907T000000
DTEND:20170920T235900
DTSTAMP:20260424T032137
CREATED:20170906T200127
LAST-MODIFIED:20170906T200127
UID:206902@https://singpromos.com
SUMMARY:PUMA: Up to 50% off apparel, shoes & more at OG Orchard Point! From 7 - 20 Sep 2017
DESCRIPTION:Get active with great deals from the brand you love - PUMA. We're giving up to 50% discount on a wide range of PUMA apparel, shoes, and more!. For more information, visit [ https://singpromos.com/warehouse-sales/puma-up-to-50-off-apparel-shoes-more-at-og-orchard-point-from-7-20-sep-2017-206902/ ]. 
LOCATION:238842
URL:https://singpromos.com/warehouse-sales/puma-up-to-50-off-apparel-shoes-more-at-og-orchard-point-from-7-20-sep-2017-206902/
END:VEVENT
END:VCALENDAR