BEGIN:VCALENDAR
PRODID:-//SINGPromos.com//NONSGML v1.0//EN
VERSION:2.0
CALSCALE:GREGORIAN
METHOD:PUBLISH
X-WR-CALNAME:SINGPromos.com
X-ORIGINAL-URL:https://singpromos.com
X-WR-CALDESC:Events for SINGPromos.com
BEGIN:VEVENT
DTSTART:20170914T000000
DTEND:20170917T235900
DTSTAMP:20260422T023350
CREATED:20170908T162024
LAST-MODIFIED:20170912T201722
UID:206982@https://singpromos.com
SUMMARY:Goldlion up to 90% off warehouse sale! From 14 - 17 Sep 2017
DESCRIPTION:Goldlion will be having a 4-days only warehouse sale from 14 - 17 Sep 2017 (Thurs - Sun) with discounts of up to 90% off. For more information, visit [ https://singpromos.com/warehouse-sales/goldlion-up-to-90-off-warehouse-sale-from-14-17-sep-2017-206982/ ]. 
LOCATION:368329
URL:https://singpromos.com/warehouse-sales/goldlion-up-to-90-off-warehouse-sale-from-14-17-sep-2017-206982/
END:VEVENT
END:VCALENDAR