BEGIN:VCALENDAR
PRODID:-//SINGPromos.com//NONSGML v1.0//EN
VERSION:2.0
CALSCALE:GREGORIAN
METHOD:PUBLISH
X-WR-CALNAME:SINGPromos.com
X-ORIGINAL-URL:https://singpromos.com
X-WR-CALDESC:Events for SINGPromos.com
BEGIN:VEVENT
DTSTART:20170911T000000
DTEND:20171001T235900
DTSTAMP:20260420T231906
CREATED:20170911T003908
LAST-MODIFIED:20170911T003908
UID:207023@https://singpromos.com
SUMMARY:Zuji 13% off hotels coupon code for Citibank cardmembers! From 11 Sep - 1 Oct 2017
DESCRIPTION:Search over 150,000 hotels at discounted rates and get an additional 13% OFF with this coupon code for Citibank cardmembers. Book a flight or flight+hotel package deal and enjoy 5% rebate.. For more information, visit [ https://singpromos.com/vacations/zuji-13-off-hotels-coupon-code-for-citibank-cardmembers-from-11-sep-1-oct-2017-207023/ ]. 
LOCATION:
URL:https://singpromos.com/vacations/zuji-13-off-hotels-coupon-code-for-citibank-cardmembers-from-11-sep-1-oct-2017-207023/
END:VEVENT
END:VCALENDAR