BEGIN:VCALENDAR
PRODID:-//SINGPromos.com//NONSGML v1.0//EN
VERSION:2.0
CALSCALE:GREGORIAN
METHOD:PUBLISH
X-WR-CALNAME:SINGPromos.com
X-ORIGINAL-URL:https://singpromos.com
X-WR-CALDESC:Events for SINGPromos.com
BEGIN:VEVENT
DTSTART:20170911T000000
DTEND:20170929T235900
DTSTAMP:20260420T073143
CREATED:20170911T202050
LAST-MODIFIED:20170911T202130
UID:207078@https://singpromos.com
SUMMARY:Gelare: 1-for-1 main treats at Suntec & IMM on weekdays (except Tues)! From 11 Sep 2017, 11am - 3pm
DESCRIPTION:Everyone loves 1 for 1 deal! Plan your lunch time from today at Geláre Suntec City & IMM 1 for 1 Main Treats 11am till 3pm! Don't miss out. For more information, visit [ https://singpromos.com/dining-restaurants-food/gelare-1-for-1-main-treats-at-suntec-imm-on-weekdays-except-tues-from-11-sep-2017-11am-3pm-207078/ ]. 
LOCATION:
URL:https://singpromos.com/dining-restaurants-food/gelare-1-for-1-main-treats-at-suntec-imm-on-weekdays-except-tues-from-11-sep-2017-11am-3pm-207078/
END:VEVENT
END:VCALENDAR