BEGIN:VCALENDAR
PRODID:-//SINGPromos.com//NONSGML v1.0//EN
VERSION:2.0
CALSCALE:GREGORIAN
METHOD:PUBLISH
X-WR-CALNAME:SINGPromos.com
X-ORIGINAL-URL:https://singpromos.com
X-WR-CALDESC:Events for SINGPromos.com
BEGIN:VEVENT
DTSTART:20170901T000000
DTEND:20170930T235900
DTSTAMP:20260419T230559
CREATED:20170917T163209
LAST-MODIFIED:20170917T123633
UID:207333@https://singpromos.com
SUMMARY:Mad for Garlic: 40% off a la carte menu items! From 1 - 30 Sep 2017
DESCRIPTION:In conjunction with the Singapore Grand Prix, Mad for Garlic is offering a 40% Discount on a la carte menu items in September. Please download and present the voucher to enjoy this special offer. For more information, visit [ https://singpromos.com/dining-restaurants-food/mad-for-garlic-40-off-a-la-carte-menu-items-from-1-30-sep-2017-207333/ ]. 
LOCATION:038983
URL:https://singpromos.com/dining-restaurants-food/mad-for-garlic-40-off-a-la-carte-menu-items-from-1-30-sep-2017-207333/
END:VEVENT
END:VCALENDAR