BEGIN:VCALENDAR
PRODID:-//SINGPromos.com//NONSGML v1.0//EN
VERSION:2.0
CALSCALE:GREGORIAN
METHOD:PUBLISH
X-WR-CALNAME:SINGPromos.com
X-ORIGINAL-URL:https://singpromos.com
X-WR-CALDESC:Events for SINGPromos.com
BEGIN:VEVENT
DTSTART:20171016T000000
DTEND:20171022T235900
DTSTAMP:20260420T191212
CREATED:20170918T154231
LAST-MODIFIED:20170918T095056
UID:207357@https://singpromos.com
SUMMARY:UOB credit card roadshow at Waterway Point from 16 - 22 Oct 2017
DESCRIPTION:UOB will be having a credit card roadshow at Waterway Point. For more information, visit [ https://singpromos.com/happenings/uob-credit-card-roadshow-at-waterway-point-from-16-22-oct-2017-207357/ ]. 
LOCATION:828761
URL:https://singpromos.com/happenings/uob-credit-card-roadshow-at-waterway-point-from-16-22-oct-2017-207357/
END:VEVENT
END:VCALENDAR