BEGIN:VCALENDAR
PRODID:-//SINGPromos.com//NONSGML v1.0//EN
VERSION:2.0
CALSCALE:GREGORIAN
METHOD:PUBLISH
X-WR-CALNAME:SINGPromos.com
X-ORIGINAL-URL:https://singpromos.com
X-WR-CALDESC:Events for SINGPromos.com
BEGIN:VEVENT
DTSTART:20170921T000000
DTEND:20171004T235900
DTSTAMP:20260420T073142
CREATED:20170921T071951
LAST-MODIFIED:20170921T071951
UID:207503@https://singpromos.com
SUMMARY:Robinsons Mid-Autumn mooncake fair at Suntec! From 21 Sep - 4 Oct 2017
DESCRIPTION:Indulge in heavenly tastes this Mid-Autumn, Enjoy up to 25% off* atRobinsons Mid-Autumn Fair Suntec City East Atrium Now till Wednesday, 4 October, 2017, 10AM- 10PM. For more information, visit [ https://singpromos.com/happenings/robinsons-mid-autumn-mooncake-fair-at-suntec-from-21-sep-4-oct-2017-207503/ ]. 
LOCATION:038983
URL:https://singpromos.com/happenings/robinsons-mid-autumn-mooncake-fair-at-suntec-from-21-sep-4-oct-2017-207503/
END:VEVENT
END:VCALENDAR