BEGIN:VCALENDAR
PRODID:-//SINGPromos.com//NONSGML v1.0//EN
VERSION:2.0
CALSCALE:GREGORIAN
METHOD:PUBLISH
X-WR-CALNAME:SINGPromos.com
X-ORIGINAL-URL:https://singpromos.com
X-WR-CALDESC:Events for SINGPromos.com
BEGIN:VEVENT
DTSTART:20170923T000000
DTEND:20170924T235900
DTSTAMP:20260420T055454
CREATED:20170922T123716
LAST-MODIFIED:20170922T123716
UID:207567@https://singpromos.com
SUMMARY:Dynasty Travel Mid Autumn Travel Fiesta fair at Suntec City Mall! From 23 - 24 Sep 2017
DESCRIPTION:Whether it's a dream holiday or a last minute deal, Dynasty Travel os here for you at Suntec City (near Gudetama Café) on 23 & 24 September, 11am - 8pm.. For more information, visit [ https://singpromos.com/happenings/dynasty-travel-mid-autumn-travel-fiesta-fair-at-suntec-city-mall-from-23-24-sep-2017-207567/ ]. 
LOCATION:038983
URL:https://singpromos.com/happenings/dynasty-travel-mid-autumn-travel-fiesta-fair-at-suntec-city-mall-from-23-24-sep-2017-207567/
END:VEVENT
END:VCALENDAR