BEGIN:VCALENDAR
PRODID:-//SINGPromos.com//NONSGML v1.0//EN
VERSION:2.0
CALSCALE:GREGORIAN
METHOD:PUBLISH
X-WR-CALNAME:SINGPromos.com
X-ORIGINAL-URL:https://singpromos.com
X-WR-CALDESC:Events for SINGPromos.com
BEGIN:VEVENT
DTSTART:20170925T000000
DTEND:20170930T235900
DTSTAMP:20260422T184730
CREATED:20170924T155417
LAST-MODIFIED:20170924T103800
UID:207610@https://singpromos.com
SUMMARY:Phoon Huat 10% off storewide sale at all 11 outlets! From 25 - 30 Sep 2017
DESCRIPTION:For those who missed the recent 15% storewide promotion, fret not! Phoon Huat's discount promotion is returning albeit with a lower amount!. For more information, visit [ https://singpromos.com/dining-restaurants-food/phoon-huat-10-off-storewide-sale-at-all-11-outlets-from-25-30-sep-2017-207610/ ]. 
LOCATION:
URL:https://singpromos.com/dining-restaurants-food/phoon-huat-10-off-storewide-sale-at-all-11-outlets-from-25-30-sep-2017-207610/
END:VEVENT
END:VCALENDAR