BEGIN:VCALENDAR
PRODID:-//SINGPromos.com//NONSGML v1.0//EN
VERSION:2.0
CALSCALE:GREGORIAN
METHOD:PUBLISH
X-WR-CALNAME:SINGPromos.com
X-ORIGINAL-URL:https://singpromos.com
X-WR-CALDESC:Events for SINGPromos.com
BEGIN:VEVENT
DTSTART:20171001T000000
DTEND:20171001T235900
DTSTAMP:20260420T191406
CREATED:20170929T115542
LAST-MODIFIED:20170929T115542
UID:207780@https://singpromos.com
SUMMARY:Dunkin' Donuts: Free coffee with any box of donuts purchase on 1 Oct 2017
DESCRIPTION:Take time to smell the coffee because Global Coffee Day is almost here! Enjoy a free regular-size latte or cappuccino with any box of donuts purchased on 1 Oct.. For more information, visit [ https://singpromos.com/dining-restaurants-food/dunkin-donuts-free-coffee-with-any-box-of-donuts-purchase-on-1-oct-2017-207780/ ]. 
LOCATION:
URL:https://singpromos.com/dining-restaurants-food/dunkin-donuts-free-coffee-with-any-box-of-donuts-purchase-on-1-oct-2017-207780/
END:VEVENT
END:VCALENDAR