BEGIN:VCALENDAR
PRODID:-//SINGPromos.com//NONSGML v1.0//EN
VERSION:2.0
CALSCALE:GREGORIAN
METHOD:PUBLISH
X-WR-CALNAME:SINGPromos.com
X-ORIGINAL-URL:https://singpromos.com
X-WR-CALDESC:Events for SINGPromos.com
BEGIN:VEVENT
DTSTART:20171005T000000
DTEND:20171031T235900
DTSTAMP:20260422T082233
CREATED:20171005T075520
LAST-MODIFIED:20171005T113846
UID:208036@https://singpromos.com
SUMMARY:Singapore Airlines releases new two-to-go & early bird exceptional fares for AMEX cardholders! Book from 5 - 31 Oct 2017
DESCRIPTION:Your window to extraordinary adventures with all-in return Economy Class Early Bird fares and amazing year end specials to over 55 exciting destinations.. For more information, visit [ https://singpromos.com/airlines-flights/singapore-airlines-releases-new-two-to-go-early-bird-exceptional-fares-for-amex-cardholders-book-from-5-31-oct-2017-208036/ ]. 
LOCATION:
URL:https://singpromos.com/airlines-flights/singapore-airlines-releases-new-two-to-go-early-bird-exceptional-fares-for-amex-cardholders-book-from-5-31-oct-2017-208036/
END:VEVENT
END:VCALENDAR