BEGIN:VCALENDAR
PRODID:-//SINGPromos.com//NONSGML v1.0//EN
VERSION:2.0
CALSCALE:GREGORIAN
METHOD:PUBLISH
X-WR-CALNAME:SINGPromos.com
X-ORIGINAL-URL:https://singpromos.com
X-WR-CALDESC:Events for SINGPromos.com
BEGIN:VEVENT
DTSTART:20171006T000000
DTEND:20171008T235900
DTSTAMP:20260422T082151
CREATED:20171006T091252
LAST-MODIFIED:20171007T072839
UID:208203@https://singpromos.com
SUMMARY:Harvey Norman Extra Extreme Expo Fair from 6 - 8 Oct 2017
DESCRIPTION:Harvey Norman's EXPO electronics fair is back! Xtra xtremely low prices on your favourite Electrical and I.T. Brands, FREE Vouchers with your purchases and Fun Activities for the kids. For more information, visit [ https://singpromos.com/warehouse-sales/harvey-norman-extra-extreme-expo-fair-from-6-8-oct-2017-208203/ ]. 
LOCATION:486150
URL:https://singpromos.com/warehouse-sales/harvey-norman-extra-extreme-expo-fair-from-6-8-oct-2017-208203/
END:VEVENT
END:VCALENDAR