BEGIN:VCALENDAR
PRODID:-//SINGPromos.com//NONSGML v1.0//EN
VERSION:2.0
CALSCALE:GREGORIAN
METHOD:PUBLISH
X-WR-CALNAME:SINGPromos.com
X-ORIGINAL-URL:https://singpromos.com
X-WR-CALDESC:Events for SINGPromos.com
BEGIN:VEVENT
DTSTART:20171013T000000
DTEND:20171013T235900
DTSTAMP:20260420T200130
CREATED:20171013T084059
LAST-MODIFIED:20171013T084059
UID:208508@https://singpromos.com
SUMMARY:Jetstar: $0 fares to Ho Chi Minh City, Darwin and more one-day promo! Ends 13 Oct 2017, 11pm
DESCRIPTION:Enjoy $0^ fares to Taipei, Yangon, Da Nang and more. Hurry, book now! Taxes $34 - $39 are payable and are subject to change. One way economy Starter fares with 7kg carry-on baggage only.. For more information, visit [ https://singpromos.com/airlines-flights/jetstar-0-fares-to-ho-chi-minh-city-darwin-and-more-one-day-promo-ends-13-oct-2017-11pm-208508/ ]. 
LOCATION:
URL:https://singpromos.com/airlines-flights/jetstar-0-fares-to-ho-chi-minh-city-darwin-and-more-one-day-promo-ends-13-oct-2017-11pm-208508/
END:VEVENT
END:VCALENDAR