BEGIN:VCALENDAR
PRODID:-//SINGPromos.com//NONSGML v1.0//EN
VERSION:2.0
CALSCALE:GREGORIAN
METHOD:PUBLISH
X-WR-CALNAME:SINGPromos.com
X-ORIGINAL-URL:https://singpromos.com
X-WR-CALDESC:Events for SINGPromos.com
BEGIN:VEVENT
DTSTART:20171018T000000
DTEND:20171029T235900
DTSTAMP:20260422T082235
CREATED:20171018T000336
LAST-MODIFIED:20171013T122715
UID:208521@https://singpromos.com
SUMMARY:American Eagle Outfitters' Sale: Up to 60% Off + Add 20% Off Storewide (Min 5pcs)! From 18 - 29 Oct 2017
DESCRIPTION:American Eagle Outfitters is a fashion brand with expertly crafted, high quality jeans at its core. From 18 Oct - 29 Oct, American Eagle Outfitters will be offering up to 60% off their mid season sale + additional 20% off (min 5 pcs).. For more information, visit [ https://singpromos.com/fashion-accessories/american-eagle-outfitters-sale-up-to-60-off-add-20-off-storewide-min-5pcs-from-18-29-oct-2017-208521/ ]. 
LOCATION:
URL:https://singpromos.com/fashion-accessories/american-eagle-outfitters-sale-up-to-60-off-add-20-off-storewide-min-5pcs-from-18-29-oct-2017-208521/
END:VEVENT
END:VCALENDAR