BEGIN:VCALENDAR
PRODID:-//SINGPromos.com//NONSGML v1.0//EN
VERSION:2.0
CALSCALE:GREGORIAN
METHOD:PUBLISH
X-WR-CALNAME:SINGPromos.com
X-ORIGINAL-URL:https://singpromos.com
X-WR-CALDESC:Events for SINGPromos.com
BEGIN:VEVENT
DTSTART:20171016T000000
DTEND:20171020T235900
DTSTAMP:20260422T082240
CREATED:20171016T071110
LAST-MODIFIED:20171016T235703
UID:208576@https://singpromos.com
SUMMARY:Charles & Keith FLASH sale - up to 50% OFF selected styles! From 16 - 20 Oct 2017
DESCRIPTION:For five days only, Charles & Keith is running an online Flash Sale. Choose from an extensive range of fashion options - heels, flats, sandals, city bags, totes, shoulder bags, sunglasses, keychains, and more.. For more information, visit [ https://singpromos.com/fashion-accessories/charles-keith-flash-sale-up-to-50-off-selected-styles-from-16-20-oct-2017-208576/ ]. 
LOCATION:
URL:https://singpromos.com/fashion-accessories/charles-keith-flash-sale-up-to-50-off-selected-styles-from-16-20-oct-2017-208576/
END:VEVENT
END:VCALENDAR