BEGIN:VCALENDAR
PRODID:-//SINGPromos.com//NONSGML v1.0//EN
VERSION:2.0
CALSCALE:GREGORIAN
METHOD:PUBLISH
X-WR-CALNAME:SINGPromos.com
X-ORIGINAL-URL:https://singpromos.com
X-WR-CALDESC:Events for SINGPromos.com
BEGIN:VEVENT
DTSTART:20171214T000000
DTEND:20171220T235900
DTSTAMP:20260422T194721
CREATED:20171016T173000
LAST-MODIFIED:20171016T173000
UID:208619@https://singpromos.com
SUMMARY:M1 roadshow at YewTee Point from 14 - 20 Dec 2017
DESCRIPTION:M1 is having a roadshow at YewTee Point.. For more information, visit [ https://singpromos.com/happenings/m1-roadshow-at-yewtee-point-from-14-20-dec-2017-208619/ ]. 
LOCATION:689578
URL:https://singpromos.com/happenings/m1-roadshow-at-yewtee-point-from-14-20-dec-2017-208619/
END:VEVENT
END:VCALENDAR