BEGIN:VCALENDAR
PRODID:-//SINGPromos.com//NONSGML v1.0//EN
VERSION:2.0
CALSCALE:GREGORIAN
METHOD:PUBLISH
X-WR-CALNAME:SINGPromos.com
X-ORIGINAL-URL:https://singpromos.com
X-WR-CALDESC:Events for SINGPromos.com
BEGIN:VEVENT
DTSTART:20171020T000000
DTEND:20171022T235900
DTSTAMP:20260420T013915
CREATED:20171019T071235
LAST-MODIFIED:20171021T142707
UID:208756@https://singpromos.com
SUMMARY:World of Sports - Up to 90% OFF Mega Sports Expo Sale! From 20 - 22 Oct 2017
DESCRIPTION:Back by popular demand! The Mega Sports Expo Sale is happening this weekend! Come check out up to 90% OFF great deals they've prepared for you at Singapore Expo Hall 5A!. For more information, visit [ https://singpromos.com/warehouse-sales/world-of-sports-up-to-90-off-mega-sports-expo-sale-from-20-22-oct-2017-208756/ ]. 
LOCATION:486150
URL:https://singpromos.com/warehouse-sales/world-of-sports-up-to-90-off-mega-sports-expo-sale-from-20-22-oct-2017-208756/
END:VEVENT
END:VCALENDAR