BEGIN:VCALENDAR
PRODID:-//SINGPromos.com//NONSGML v1.0//EN
VERSION:2.0
CALSCALE:GREGORIAN
METHOD:PUBLISH
X-WR-CALNAME:SINGPromos.com
X-ORIGINAL-URL:https://singpromos.com
X-WR-CALDESC:Events for SINGPromos.com
BEGIN:VEVENT
DTSTART:20171020T000000
DTEND:20171020T235900
DTSTAMP:20260420T200230
CREATED:20171020T095525
LAST-MODIFIED:20171020T095525
UID:208814@https://singpromos.com
SUMMARY:Jetstar: $0 fares to Bangkok, Siem Reap and more one-day promo! Ends 20 Oct 2017, 11pm
DESCRIPTION:Book $0 flights to Bangkok, Siem Reap and more. Today only! Taxes $34 - $55 are payable and are subject to change. One way economy Starter fares with 7kg carry-on baggage only.. For more information, visit [ https://singpromos.com/airlines-flights/jetstar-0-fares-to-bangkok-siem-reap-and-more-one-day-promo-ends-20-oct-2017-11pm-208814/ ]. 
LOCATION:
URL:https://singpromos.com/airlines-flights/jetstar-0-fares-to-bangkok-siem-reap-and-more-one-day-promo-ends-20-oct-2017-11pm-208814/
END:VEVENT
END:VCALENDAR