BEGIN:VCALENDAR
PRODID:-//SINGPromos.com//NONSGML v1.0//EN
VERSION:2.0
CALSCALE:GREGORIAN
METHOD:PUBLISH
X-WR-CALNAME:SINGPromos.com
X-ORIGINAL-URL:https://singpromos.com
X-WR-CALDESC:Events for SINGPromos.com
BEGIN:VEVENT
DTSTART:20111210T000000
DTEND:20111225T235900
DTSTAMP:20260422T082108
CREATED:20111211T035654
LAST-MODIFIED:20111211T035654
UID:20883@https://singpromos.com
SUMMARY:Fashion Fast Forward Stores $20 Bonus On Gift Cards 10 - 25 Dec 2011
DESCRIPTION:Give the gift of style with a gift card full of your favourite labels. Now till 25 Dec 2011, get a bonus $20 when you purchase the $100 Xmas gift card.. For more information, visit [ https://singpromos.com/fashion-accessories/fashion-fast-forward-stores-20-bonus-on-gift-cards-10-25-dec-2011-20883/ ]. 
LOCATION:
URL:https://singpromos.com/fashion-accessories/fashion-fast-forward-stores-20-bonus-on-gift-cards-10-25-dec-2011-20883/
END:VEVENT
END:VCALENDAR