BEGIN:VCALENDAR
PRODID:-//SINGPromos.com//NONSGML v1.0//EN
VERSION:2.0
CALSCALE:GREGORIAN
METHOD:PUBLISH
X-WR-CALNAME:SINGPromos.com
X-ORIGINAL-URL:https://singpromos.com
X-WR-CALDESC:Events for SINGPromos.com
BEGIN:VEVENT
DTSTART:20171023T000000
DTEND:20171112T235900
DTSTAMP:20260420T231907
CREATED:20171023T182356
LAST-MODIFIED:20171023T182356
UID:208943@https://singpromos.com
SUMMARY:Zuji 12% off hotels coupon code with Mastercard cards! Valid from 23 Oct - 12 Nov 2017
DESCRIPTION:Search over 150,000 hotels at discounted rates and get an additional 12% OFF with this coupon code for Mastercard cardmembers. Book a flight or flight+hotel package deal and enjoy up to $100 rebate on flight or package bookings.. For more information, visit [ https://singpromos.com/vacations/zuji-12-off-hotels-coupon-code-with-mastercard-cards-valid-from-23-oct-12-nov-2017-208943/ ]. 
LOCATION:
URL:https://singpromos.com/vacations/zuji-12-off-hotels-coupon-code-with-mastercard-cards-valid-from-23-oct-12-nov-2017-208943/
END:VEVENT
END:VCALENDAR